BEGIN:VCALENDAR
VERSION:2.0
PRODID:-//Eastman Immigrant Services - ECPv6.13.2.1//NONSGML v1.0//EN
CALSCALE:GREGORIAN
METHOD:PUBLISH
X-ORIGINAL-URL:https://eastmanimmigrantservices.com
X-WR-CALDESC:Events for Eastman Immigrant Services
REFRESH-INTERVAL;VALUE=DURATION:PT1H
X-Robots-Tag:noindex
X-PUBLISHED-TTL:PT1H
BEGIN:VTIMEZONE
TZID:America/Winnipeg
BEGIN:DAYLIGHT
TZOFFSETFROM:-0600
TZOFFSETTO:-0500
TZNAME:CDT
DTSTART:20250309T080000
END:DAYLIGHT
BEGIN:STANDARD
TZOFFSETFROM:-0500
TZOFFSETTO:-0600
TZNAME:CST
DTSTART:20251102T070000
END:STANDARD
END:VTIMEZONE
BEGIN:VEVENT
DTSTART;TZID=America/Winnipeg:20251031T093000
DTEND;TZID=America/Winnipeg:20251031T230000
DTSTAMP:20260419T073245
CREATED:20250612T162039Z
LAST-MODIFIED:20250707T193943Z
UID:10001262-1761903000-1761951600@eastmanimmigrantservices.com
SUMMARY:HIPPY Group Meeting
DESCRIPTION:The Home Instruction for Parents of Preschool Youngsters (HIPPY) program is a school readiness program offered to newcomer families with children ages 3\, 4 and 5.  Trained HIPPY Home Visitors come to your house to show you how to create a learning environment for your preschoolers and help you\, the parent\, prepare your child for success in the Canadian school system. \nHIPPY is a 30-week program that provides books\, educational materials and fun activities for mom or dad to do with their child. The curriculum is designed just for them. Parents can attend group meetings to meet other HIPPY parents\, discuss their progress\, learn about Canadian culture and HAVE FUN! \nTo register for the 2024-25 year\, visit https://forms.office.com/r/V2VeAJU0xh \nFor questions or more info\, please contact Donna at 431.366.0392 or donna@eastmanis.com.
URL:https://eastmanimmigrantservices.com/event/hippy-group-meeting/
LOCATION:HIPPY/English for Work Office\, 275 Main Street\, Steinbach\, Manitoba\, R5G 1M6\, Canada
CATEGORIES:HIPPY
END:VEVENT
END:VCALENDAR