BEGIN:VCALENDAR
VERSION:2.0
PRODID:-//Eastman Immigrant Services - ECPv6.13.2.1//NONSGML v1.0//EN
CALSCALE:GREGORIAN
METHOD:PUBLISH
X-ORIGINAL-URL:https://eastmanimmigrantservices.com
X-WR-CALDESC:Events for Eastman Immigrant Services
REFRESH-INTERVAL;VALUE=DURATION:PT1H
X-Robots-Tag:noindex
X-PUBLISHED-TTL:PT1H
BEGIN:VTIMEZONE
TZID:America/Winnipeg
BEGIN:DAYLIGHT
TZOFFSETFROM:-0600
TZOFFSETTO:-0500
TZNAME:CDT
DTSTART:20250309T080000
END:DAYLIGHT
BEGIN:STANDARD
TZOFFSETFROM:-0500
TZOFFSETTO:-0600
TZNAME:CST
DTSTART:20251102T070000
END:STANDARD
END:VTIMEZONE
BEGIN:VEVENT
DTSTART;TZID=America/Winnipeg:20251203T173000
DTEND;TZID=America/Winnipeg:20251203T203000
DTSTAMP:20260423T190930
CREATED:20251125T115825Z
LAST-MODIFIED:20251125T120005Z
UID:10003014-1764783000-1764793800@eastmanimmigrantservices.com
SUMMARY:Paint Night
DESCRIPTION:Join the SWIS team for a winter-themed paint night led by local artist Marissa Wiebe!\n\nCome learn new techniques\, express your creativity\, and have fun painting with friends.\n\nAges 12 – 18 are welcome to register.\n\nNo experience needed– just bring your creativity and enjoy a cozy\, creative night!\n\nTo register\, visit https://eis.carmis.ai/event-registration/?evt=EVT000000000000000000323
URL:https://eastmanimmigrantservices.com/event/paint-night/
LOCATION:HIPPY/English for Work Office\, 275 Main Street\, Steinbach\, Manitoba\, R5G 1M6\, Canada
CATEGORIES:SWIS
ATTACH;FMTTYPE=image/jpeg:https://eastmanimmigrantservices.com/wp-content/uploads/2025/11/iStock-2206074391-scaled.jpg
ORGANIZER;CN="Emily Hildebrand":MAILTO:emilyh@eastmanis.com
END:VEVENT
BEGIN:VEVENT
DTSTART;TZID=America/Winnipeg:20251208T170000
DTEND;TZID=America/Winnipeg:20251208T193000
DTSTAMP:20260423T190930
CREATED:20251125T114956Z
LAST-MODIFIED:20251125T115259Z
UID:10003011-1765213200-1765222200@eastmanimmigrantservices.com
SUMMARY:Youth Short Film - Workshop
DESCRIPTION:Join our SWIS time for a three day after school program designed to engage newcomer youth in storytelling\, creativity\, and collaboration. \nThrough this hands-on workshop\, participants will learn the basics of writing\, directing\, and filming their own short Christmas-themed story. \nSpots are limited to sign up soon to secure yours! \nRegister by visiting https://eis.carmis.ai/event-registration/?evt=EVT000000000000000000321
URL:https://eastmanimmigrantservices.com/event/youth-short-film-workshop/2025-12-08/
LOCATION:EIS Brandt Street Office\, 193 Provincial Trunk Hwy 12\, Steinbach\, Manitoba\, R5G0N7\, Canada
CATEGORIES:SWIS
ATTACH;FMTTYPE=image/jpeg:https://eastmanimmigrantservices.com/wp-content/uploads/2025/11/iStock-2167307329-scaled.jpg
ORGANIZER;CN="Bruce Gasmena":MAILTO:bruce@eastmanis.com
END:VEVENT
BEGIN:VEVENT
DTSTART;TZID=America/Winnipeg:20251209T170000
DTEND;TZID=America/Winnipeg:20251209T193000
DTSTAMP:20260423T190930
CREATED:20251125T114956Z
LAST-MODIFIED:20251125T115259Z
UID:10003012-1765299600-1765308600@eastmanimmigrantservices.com
SUMMARY:Youth Short Film - Workshop
DESCRIPTION:Join our SWIS time for a three day after school program designed to engage newcomer youth in storytelling\, creativity\, and collaboration. \nThrough this hands-on workshop\, participants will learn the basics of writing\, directing\, and filming their own short Christmas-themed story. \nSpots are limited to sign up soon to secure yours! \nRegister by visiting https://eis.carmis.ai/event-registration/?evt=EVT000000000000000000321
URL:https://eastmanimmigrantservices.com/event/youth-short-film-workshop/2025-12-09/
LOCATION:EIS Brandt Street Office\, 193 Provincial Trunk Hwy 12\, Steinbach\, Manitoba\, R5G0N7\, Canada
CATEGORIES:SWIS
ATTACH;FMTTYPE=image/jpeg:https://eastmanimmigrantservices.com/wp-content/uploads/2025/11/iStock-2167307329-scaled.jpg
ORGANIZER;CN="Bruce Gasmena":MAILTO:bruce@eastmanis.com
END:VEVENT
BEGIN:VEVENT
DTSTART;TZID=America/Winnipeg:20251210T170000
DTEND;TZID=America/Winnipeg:20251210T193000
DTSTAMP:20260423T190930
CREATED:20251125T114956Z
LAST-MODIFIED:20251125T115259Z
UID:10003013-1765386000-1765395000@eastmanimmigrantservices.com
SUMMARY:Youth Short Film - Workshop
DESCRIPTION:Join our SWIS time for a three day after school program designed to engage newcomer youth in storytelling\, creativity\, and collaboration. \nThrough this hands-on workshop\, participants will learn the basics of writing\, directing\, and filming their own short Christmas-themed story. \nSpots are limited to sign up soon to secure yours! \nRegister by visiting https://eis.carmis.ai/event-registration/?evt=EVT000000000000000000321
URL:https://eastmanimmigrantservices.com/event/youth-short-film-workshop/2025-12-10/
LOCATION:EIS Brandt Street Office\, 193 Provincial Trunk Hwy 12\, Steinbach\, Manitoba\, R5G0N7\, Canada
CATEGORIES:SWIS
ATTACH;FMTTYPE=image/jpeg:https://eastmanimmigrantservices.com/wp-content/uploads/2025/11/iStock-2167307329-scaled.jpg
ORGANIZER;CN="Bruce Gasmena":MAILTO:bruce@eastmanis.com
END:VEVENT
BEGIN:VEVENT
DTSTART;TZID=America/Winnipeg:20251214T180000
DTEND;TZID=America/Winnipeg:20251214T210000
DTSTAMP:20260423T190930
CREATED:20251128T141742Z
LAST-MODIFIED:20251128T141945Z
UID:10003019-1765735200-1765746000@eastmanimmigrantservices.com
SUMMARY:SWIS Movie Night
DESCRIPTION:Join the SWIS team for a free movie night at Steinbach’s Keystone Cinema! \nEnjoy the movie “Elf” with free popcorn and drinks! \nSpots are limited! \nRegister by visiting https://eis.carmis.ai/event-registration/?evt=EVT000000000000000000326
URL:https://eastmanimmigrantservices.com/event/swis-movie-night/
LOCATION:Keystone Cinema\, 353 Elmdale Street\, Steinbach\, Manitoba\, R5G 0E9\, Canada
CATEGORIES:SWIS
ATTACH;FMTTYPE=image/jpeg:https://eastmanimmigrantservices.com/wp-content/uploads/2025/11/iStock-1799050701-1.jpg
ORGANIZER;CN="Tiffany Froese":MAILTO:tiffany@eastmanis.com
END:VEVENT
END:VCALENDAR