BEGIN:VCALENDAR
VERSION:2.0
PRODID:-//Eastman Immigrant Services - ECPv6.13.2.1//NONSGML v1.0//EN
CALSCALE:GREGORIAN
METHOD:PUBLISH
X-WR-CALNAME:Eastman Immigrant Services
X-ORIGINAL-URL:https://eastmanimmigrantservices.com
X-WR-CALDESC:Events for Eastman Immigrant Services
REFRESH-INTERVAL;VALUE=DURATION:PT1H
X-Robots-Tag:noindex
X-PUBLISHED-TTL:PT1H
BEGIN:VTIMEZONE
TZID:America/Winnipeg
BEGIN:DAYLIGHT
TZOFFSETFROM:-0600
TZOFFSETTO:-0500
TZNAME:CDT
DTSTART:20250309T080000
END:DAYLIGHT
BEGIN:STANDARD
TZOFFSETFROM:-0500
TZOFFSETTO:-0600
TZNAME:CST
DTSTART:20251102T070000
END:STANDARD
END:VTIMEZONE
BEGIN:VEVENT
DTSTART;TZID=America/Winnipeg:20251209T170000
DTEND;TZID=America/Winnipeg:20251209T193000
DTSTAMP:20260423T202100
CREATED:20251125T114956Z
LAST-MODIFIED:20251125T115259Z
UID:10003012-1765299600-1765308600@eastmanimmigrantservices.com
SUMMARY:Youth Short Film - Workshop
DESCRIPTION:Join our SWIS time for a three day after school program designed to engage newcomer youth in storytelling\, creativity\, and collaboration. \nThrough this hands-on workshop\, participants will learn the basics of writing\, directing\, and filming their own short Christmas-themed story. \nSpots are limited to sign up soon to secure yours! \nRegister by visiting https://eis.carmis.ai/event-registration/?evt=EVT000000000000000000321
URL:https://eastmanimmigrantservices.com/event/youth-short-film-workshop/2025-12-09/
LOCATION:EIS Brandt Street Office\, 193 Provincial Trunk Hwy 12\, Steinbach\, Manitoba\, R5G0N7\, Canada
CATEGORIES:SWIS
ATTACH;FMTTYPE=image/jpeg:https://eastmanimmigrantservices.com/wp-content/uploads/2025/11/iStock-2167307329-scaled.jpg
ORGANIZER;CN="Bruce Gasmena":MAILTO:bruce@eastmanis.com
END:VEVENT
END:VCALENDAR