BEGIN:VCALENDAR
VERSION:2.0
PRODID:-//Eastman Immigrant Services - ECPv6.13.2.1//NONSGML v1.0//EN
CALSCALE:GREGORIAN
METHOD:PUBLISH
X-WR-CALNAME:Eastman Immigrant Services
X-ORIGINAL-URL:https://eastmanimmigrantservices.com
X-WR-CALDESC:Events for Eastman Immigrant Services
REFRESH-INTERVAL;VALUE=DURATION:PT1H
X-Robots-Tag:noindex
X-PUBLISHED-TTL:PT1H
BEGIN:VTIMEZONE
TZID:America/Winnipeg
BEGIN:DAYLIGHT
TZOFFSETFROM:-0600
TZOFFSETTO:-0500
TZNAME:CDT
DTSTART:20260308T080000
END:DAYLIGHT
BEGIN:STANDARD
TZOFFSETFROM:-0500
TZOFFSETTO:-0600
TZNAME:CST
DTSTART:20261101T070000
END:STANDARD
END:VTIMEZONE
BEGIN:VEVENT
DTSTART;TZID=America/Winnipeg:20260212T154500
DTEND;TZID=America/Winnipeg:20260212T170000
DTSTAMP:20260419T172553
CREATED:20260105T162149Z
LAST-MODIFIED:20260218T212703Z
UID:10003144-1770911100-1770915600@eastmanimmigrantservices.com
SUMMARY:Youth Content Creator Club
DESCRIPTION:Youth Content Creators Club is an after-school program for newcomer youth ages 15–19. \nEvery Thursday in January 2026 from 3:45 PM to 5:00 PM. \nParticipants will learn the basics of Adobe Premiere Pro\, including editing clips\, adding transitions\, text\, and music\, and creating short videos. They will also learn how to create short form video/reels and navigate popular apps such as TikTok and Instagram safely. \nTo register\, visit: https://eis.carmis.ai/event-registration/?evt=EVT000000000000000000335
URL:https://eastmanimmigrantservices.com/event/youth-content-creator-club/2026-02-12/
LOCATION:EIS Brandt Street Office\, 193 Provincial Trunk Hwy 12\, Steinbach\, Manitoba\, R5G0N7\, Canada
CATEGORIES:SWIS
ORGANIZER;CN="Bruce Gasmena":MAILTO:bruce@eastmanis.com
END:VEVENT
BEGIN:VEVENT
DTSTART;TZID=America/Winnipeg:20260212T170000
DTEND;TZID=America/Winnipeg:20260212T190000
DTSTAMP:20260419T172553
CREATED:20260105T151446Z
LAST-MODIFIED:20260218T213055Z
UID:10003038-1770915600-1770922800@eastmanimmigrantservices.com
SUMMARY:Youth Sports Night
DESCRIPTION:Every Tuesday and Wednesday\nFrom 5PM – 7PM\nAt the Southeast Event Centre\n\nAll newcomer youth ages 15-19 are welcome to join throughout the month of January!\n\nTuesdays: Basketball\nWednesdays: Volleyball\n\nTo register\, visit: https://eis.carmis.ai/event-registration/?evt=EVT000000000000000000334
URL:https://eastmanimmigrantservices.com/event/youth-sports-night/2026-02-12/
LOCATION:Southeast Event Centre\, 321 Elmdale Street\, Steinbach\, Manitoba\, R5G 0E8\, Canada
CATEGORIES:SWIS
ORGANIZER;CN="Bruce Gasmena":MAILTO:bruce@eastmanis.com
END:VEVENT
BEGIN:VEVENT
DTSTART;TZID=America/Winnipeg:20260217T170000
DTEND;TZID=America/Winnipeg:20260217T190000
DTSTAMP:20260419T172553
CREATED:20260105T151446Z
LAST-MODIFIED:20260218T213055Z
UID:10003039-1771347600-1771354800@eastmanimmigrantservices.com
SUMMARY:Youth Sports Night
DESCRIPTION:Every Tuesday and Wednesday\nFrom 5PM – 7PM\nAt the Southeast Event Centre\n\nAll newcomer youth ages 15-19 are welcome to join throughout the month of January!\n\nTuesdays: Basketball\nWednesdays: Volleyball\n\nTo register\, visit: https://eis.carmis.ai/event-registration/?evt=EVT000000000000000000334
URL:https://eastmanimmigrantservices.com/event/youth-sports-night/2026-02-17/
LOCATION:Southeast Event Centre\, 321 Elmdale Street\, Steinbach\, Manitoba\, R5G 0E8\, Canada
CATEGORIES:SWIS
ORGANIZER;CN="Bruce Gasmena":MAILTO:bruce@eastmanis.com
END:VEVENT
BEGIN:VEVENT
DTSTART;TZID=America/Winnipeg:20260218T180000
DTEND;TZID=America/Winnipeg:20260218T193000
DTSTAMP:20260419T172553
CREATED:20260218T214859Z
LAST-MODIFIED:20260306T202227Z
UID:10003203-1771437600-1771443000@eastmanimmigrantservices.com
SUMMARY:SWIS - Art Club
DESCRIPTION:For ages 12 – 16\n\nEvery Wednesday from February 18th – March 11th\n\n6:00 pm – 7:00 pm\n\nBring your sketchbook\, pencils\, or paintbrushes!\nLimited supplies will be provided.
URL:https://eastmanimmigrantservices.com/event/swis-art-club/2026-02-18/
LOCATION:Eastman Immigrant Services Office\, D4-284 Reimer Avenue\, Steinbach\, Manitoba\, R5G0R5\, Canada
CATEGORIES:SWIS
ATTACH;FMTTYPE=image/jpeg:https://eastmanimmigrantservices.com/wp-content/uploads/2026/02/iStock-1257269546.jpg
ORGANIZER;CN="Emily Hildebrand":MAILTO:emilyh@eastmanis.com
END:VEVENT
BEGIN:VEVENT
DTSTART;TZID=America/Winnipeg:20260219T154500
DTEND;TZID=America/Winnipeg:20260219T170000
DTSTAMP:20260419T172553
CREATED:20260105T162149Z
LAST-MODIFIED:20260218T212703Z
UID:10003145-1771515900-1771520400@eastmanimmigrantservices.com
SUMMARY:Youth Content Creator Club
DESCRIPTION:Youth Content Creators Club is an after-school program for newcomer youth ages 15–19. \nEvery Thursday in January 2026 from 3:45 PM to 5:00 PM. \nParticipants will learn the basics of Adobe Premiere Pro\, including editing clips\, adding transitions\, text\, and music\, and creating short videos. They will also learn how to create short form video/reels and navigate popular apps such as TikTok and Instagram safely. \nTo register\, visit: https://eis.carmis.ai/event-registration/?evt=EVT000000000000000000335
URL:https://eastmanimmigrantservices.com/event/youth-content-creator-club/2026-02-19/
LOCATION:EIS Brandt Street Office\, 193 Provincial Trunk Hwy 12\, Steinbach\, Manitoba\, R5G0N7\, Canada
CATEGORIES:SWIS
ORGANIZER;CN="Bruce Gasmena":MAILTO:bruce@eastmanis.com
END:VEVENT
BEGIN:VEVENT
DTSTART;TZID=America/Winnipeg:20260219T170000
DTEND;TZID=America/Winnipeg:20260219T190000
DTSTAMP:20260419T172553
CREATED:20260105T151446Z
LAST-MODIFIED:20260218T213055Z
UID:10003040-1771520400-1771527600@eastmanimmigrantservices.com
SUMMARY:Youth Sports Night
DESCRIPTION:Every Tuesday and Wednesday\nFrom 5PM – 7PM\nAt the Southeast Event Centre\n\nAll newcomer youth ages 15-19 are welcome to join throughout the month of January!\n\nTuesdays: Basketball\nWednesdays: Volleyball\n\nTo register\, visit: https://eis.carmis.ai/event-registration/?evt=EVT000000000000000000334
URL:https://eastmanimmigrantservices.com/event/youth-sports-night/2026-02-19/
LOCATION:Southeast Event Centre\, 321 Elmdale Street\, Steinbach\, Manitoba\, R5G 0E8\, Canada
CATEGORIES:SWIS
ORGANIZER;CN="Bruce Gasmena":MAILTO:bruce@eastmanis.com
END:VEVENT
BEGIN:VEVENT
DTSTART;TZID=America/Winnipeg:20260224T183000
DTEND;TZID=America/Winnipeg:20260224T203000
DTSTAMP:20260419T172553
CREATED:20260105T144102Z
LAST-MODIFIED:20260105T161633Z
UID:10003024-1771957800-1771965000@eastmanimmigrantservices.com
SUMMARY:Youth Mental Health - Info Session
DESCRIPTION:This info session is the perfect place to learn about youth mental health in a relaxed and supportive environment. We will feature: \n\nInteractive activities and workshops\nDelicious food and refreshments\nChance to win prizes!\n\nFeaturing guest speaker: Rahma Shahin from the Canadian Mental Health Association \nLocated in Room 2 at the Southeast Event Centre \nTo register\, visit: https://eis.carmis.ai/event-registration/?evt=EVT000000000000000000324
URL:https://eastmanimmigrantservices.com/event/youth-mental-health-info-session/
LOCATION:Southeast Event Centre\, 321 Elmdale Street\, Steinbach\, Manitoba\, R5G 0E8\, Canada
CATEGORIES:SWIS
ATTACH;FMTTYPE=image/jpeg:https://eastmanimmigrantservices.com/wp-content/uploads/2026/01/iStock-1137727268-1.jpg
ORGANIZER;CN="Camilo Garzon":MAILTO:camilo@eastmanis.com
END:VEVENT
BEGIN:VEVENT
DTSTART;TZID=America/Winnipeg:20260225T180000
DTEND;TZID=America/Winnipeg:20260225T193000
DTSTAMP:20260419T172553
CREATED:20260218T214859Z
LAST-MODIFIED:20260306T202227Z
UID:10003204-1772042400-1772047800@eastmanimmigrantservices.com
SUMMARY:SWIS - Art Club
DESCRIPTION:For ages 12 – 16\n\nEvery Wednesday from February 18th – March 11th\n\n6:00 pm – 7:00 pm\n\nBring your sketchbook\, pencils\, or paintbrushes!\nLimited supplies will be provided.
URL:https://eastmanimmigrantservices.com/event/swis-art-club/2026-02-25/
LOCATION:Eastman Immigrant Services Office\, D4-284 Reimer Avenue\, Steinbach\, Manitoba\, R5G0R5\, Canada
CATEGORIES:SWIS
ATTACH;FMTTYPE=image/jpeg:https://eastmanimmigrantservices.com/wp-content/uploads/2026/02/iStock-1257269546.jpg
ORGANIZER;CN="Emily Hildebrand":MAILTO:emilyh@eastmanis.com
END:VEVENT
BEGIN:VEVENT
DTSTART;TZID=America/Winnipeg:20260304T180000
DTEND;TZID=America/Winnipeg:20260304T193000
DTSTAMP:20260419T172553
CREATED:20260218T214859Z
LAST-MODIFIED:20260306T202227Z
UID:10003205-1772647200-1772652600@eastmanimmigrantservices.com
SUMMARY:SWIS - Art Club
DESCRIPTION:For ages 12 – 16\n\nEvery Wednesday from February 18th – March 11th\n\n6:00 pm – 7:00 pm\n\nBring your sketchbook\, pencils\, or paintbrushes!\nLimited supplies will be provided.
URL:https://eastmanimmigrantservices.com/event/swis-art-club/2026-03-04/
LOCATION:Eastman Immigrant Services Office\, D4-284 Reimer Avenue\, Steinbach\, Manitoba\, R5G0R5\, Canada
CATEGORIES:SWIS
ATTACH;FMTTYPE=image/jpeg:https://eastmanimmigrantservices.com/wp-content/uploads/2026/02/iStock-1257269546.jpg
ORGANIZER;CN="Emily Hildebrand":MAILTO:emilyh@eastmanis.com
END:VEVENT
BEGIN:VEVENT
DTSTART;TZID=America/Winnipeg:20260308T140000
DTEND;TZID=America/Winnipeg:20260308T190000
DTSTAMP:20260419T172553
CREATED:20260302T163402Z
LAST-MODIFIED:20260302T163402Z
UID:10003209-1772978400-1772996400@eastmanimmigrantservices.com
SUMMARY:Moose Hockey Game
DESCRIPTION:Join us for a full hockey experience on March 8th!\n\n\n\nThe Moose Game team is inviting 40 of our clients to join!\n\n\n\nTransportation is included!\n\n\n\nAs well as a pre-game Hockey 101 session\, where you can:\n– Learn hockey rules\n– Try on hockey gear\n– Learn how to tape a hockey stick\n– And join in some ball hockey!\n\n\n\nTo register\, visit https://eis.carmis.ai/event-registration/?evt=EVT000000000000000000365
URL:https://eastmanimmigrantservices.com/event/moose-hockey-game/
LOCATION:Eastman Immigrant Services Office\, D4-284 Reimer Avenue\, Steinbach\, Manitoba\, R5G0R5\, Canada
CATEGORIES:Settlement,SWIS,VIC
ATTACH;FMTTYPE=image/jpeg:https://eastmanimmigrantservices.com/wp-content/uploads/2026/03/iStock-180758851.jpg
ORGANIZER;CN="Bharti":MAILTO:bharti@eastmanis.com
END:VEVENT
BEGIN:VEVENT
DTSTART;TZID=America/Winnipeg:20260311T180000
DTEND;TZID=America/Winnipeg:20260311T193000
DTSTAMP:20260419T172553
CREATED:20260218T214859Z
LAST-MODIFIED:20260306T202227Z
UID:10003206-1773252000-1773257400@eastmanimmigrantservices.com
SUMMARY:SWIS - Art Club
DESCRIPTION:For ages 12 – 16\n\nEvery Wednesday from February 18th – March 11th\n\n6:00 pm – 7:00 pm\n\nBring your sketchbook\, pencils\, or paintbrushes!\nLimited supplies will be provided.
URL:https://eastmanimmigrantservices.com/event/swis-art-club/2026-03-11/
LOCATION:Eastman Immigrant Services Office\, D4-284 Reimer Avenue\, Steinbach\, Manitoba\, R5G0R5\, Canada
CATEGORIES:SWIS
ATTACH;FMTTYPE=image/jpeg:https://eastmanimmigrantservices.com/wp-content/uploads/2026/02/iStock-1257269546.jpg
ORGANIZER;CN="Emily Hildebrand":MAILTO:emilyh@eastmanis.com
END:VEVENT
BEGIN:VEVENT
DTSTART;TZID=America/Winnipeg:20260318T180000
DTEND;TZID=America/Winnipeg:20260318T193000
DTSTAMP:20260419T172553
CREATED:20260218T214859Z
LAST-MODIFIED:20260306T202227Z
UID:10003217-1773856800-1773862200@eastmanimmigrantservices.com
SUMMARY:SWIS - Art Club
DESCRIPTION:For ages 12 – 16\n\nEvery Wednesday from February 18th – March 11th\n\n6:00 pm – 7:00 pm\n\nBring your sketchbook\, pencils\, or paintbrushes!\nLimited supplies will be provided.
URL:https://eastmanimmigrantservices.com/event/swis-art-club/2026-03-18/
LOCATION:Eastman Immigrant Services Office\, D4-284 Reimer Avenue\, Steinbach\, Manitoba\, R5G0R5\, Canada
CATEGORIES:SWIS
ATTACH;FMTTYPE=image/jpeg:https://eastmanimmigrantservices.com/wp-content/uploads/2026/02/iStock-1257269546.jpg
ORGANIZER;CN="Emily Hildebrand":MAILTO:emilyh@eastmanis.com
END:VEVENT
BEGIN:VEVENT
DTSTART;TZID=America/Winnipeg:20260325T180000
DTEND;TZID=America/Winnipeg:20260325T193000
DTSTAMP:20260419T172553
CREATED:20260218T214859Z
LAST-MODIFIED:20260306T202227Z
UID:10003218-1774461600-1774467000@eastmanimmigrantservices.com
SUMMARY:SWIS - Art Club
DESCRIPTION:For ages 12 – 16\n\nEvery Wednesday from February 18th – March 11th\n\n6:00 pm – 7:00 pm\n\nBring your sketchbook\, pencils\, or paintbrushes!\nLimited supplies will be provided.
URL:https://eastmanimmigrantservices.com/event/swis-art-club/2026-03-25/
LOCATION:Eastman Immigrant Services Office\, D4-284 Reimer Avenue\, Steinbach\, Manitoba\, R5G0R5\, Canada
CATEGORIES:SWIS
ATTACH;FMTTYPE=image/jpeg:https://eastmanimmigrantservices.com/wp-content/uploads/2026/02/iStock-1257269546.jpg
ORGANIZER;CN="Emily Hildebrand":MAILTO:emilyh@eastmanis.com
END:VEVENT
BEGIN:VEVENT
DTSTART;TZID=America/Winnipeg:20260401T130000
DTEND;TZID=America/Winnipeg:20260401T160000
DTSTAMP:20260419T172553
CREATED:20260318T151807Z
LAST-MODIFIED:20260318T151807Z
UID:10003221-1775048400-1775059200@eastmanimmigrantservices.com
SUMMARY:SWIS Art Class
DESCRIPTION:Join the SWIS team for this 2-day Art Class during Spring Break! \nYouth ages 10-16 are welcome to attend! \nLearn and experience the world of art with local artist Marissa Wiebe. \nApril 1st and 2nd \nFrom 1PM-4PM \nMeeting Room #2 – Southeast Event Centre (321 Elmdale Street\, Steinbach) \nTo register\, visit https://eis.carmis.ai/event-registration/?evt=EVT000000000000000000364
URL:https://eastmanimmigrantservices.com/event/swis-art-class/2026-04-01/
LOCATION:Southeast Event Centre\, 321 Elmdale Street\, Steinbach\, Manitoba\, R5G 0E8\, Canada
CATEGORIES:SWIS
ATTACH;FMTTYPE=image/jpeg:https://eastmanimmigrantservices.com/wp-content/uploads/2026/03/iStock-610146914-scaled.jpg
ORGANIZER;CN="Camilo Garzon":MAILTO:camilo@eastmanis.com
END:VEVENT
BEGIN:VEVENT
DTSTART;TZID=America/Winnipeg:20260402T130000
DTEND;TZID=America/Winnipeg:20260402T160000
DTSTAMP:20260419T172553
CREATED:20260318T151807Z
LAST-MODIFIED:20260318T151807Z
UID:10003222-1775134800-1775145600@eastmanimmigrantservices.com
SUMMARY:SWIS Art Class
DESCRIPTION:Join the SWIS team for this 2-day Art Class during Spring Break! \nYouth ages 10-16 are welcome to attend! \nLearn and experience the world of art with local artist Marissa Wiebe. \nApril 1st and 2nd \nFrom 1PM-4PM \nMeeting Room #2 – Southeast Event Centre (321 Elmdale Street\, Steinbach) \nTo register\, visit https://eis.carmis.ai/event-registration/?evt=EVT000000000000000000364
URL:https://eastmanimmigrantservices.com/event/swis-art-class/2026-04-02/
LOCATION:Southeast Event Centre\, 321 Elmdale Street\, Steinbach\, Manitoba\, R5G 0E8\, Canada
CATEGORIES:SWIS
ATTACH;FMTTYPE=image/jpeg:https://eastmanimmigrantservices.com/wp-content/uploads/2026/03/iStock-610146914-scaled.jpg
ORGANIZER;CN="Camilo Garzon":MAILTO:camilo@eastmanis.com
END:VEVENT
BEGIN:VEVENT
DTSTART;TZID=America/Winnipeg:20260430T163000
DTEND;TZID=America/Winnipeg:20260430T180000
DTSTAMP:20260419T172553
CREATED:20260318T152527Z
LAST-MODIFIED:20260407T193127Z
UID:10003223-1777566600-1777572000@eastmanimmigrantservices.com
SUMMARY:A Guide to Children's disABILITY Services (CDS)
DESCRIPTION:Join this in-person workshop providing families with resources and supports to help care for their children. \nAt home\, in their community\, wherever their children grow and thrive. \nApril 30th at 4:30PM \nD4-284 Reimer Avenue \nChildcare is provided for children ages 4 and up. \nTo register\, visit: https://eis.carmis.ai/event-registration/?evt=EVT000000000000000000373
URL:https://eastmanimmigrantservices.com/event/a-guide-to-childrens-disability-services-cds/
LOCATION:Eastman Immigrant Services Office\, D4-284 Reimer Avenue\, Steinbach\, Manitoba\, R5G0R5\, Canada
CATEGORIES:Settlement,SWIS
ATTACH;FMTTYPE=image/jpeg:https://eastmanimmigrantservices.com/wp-content/uploads/2026/03/iStock-2187013134-scaled.jpg
ORGANIZER;CN="Keitel Hermoso":MAILTO:keitel@eastmanis.com
END:VEVENT
BEGIN:VEVENT
DTSTART;TZID=America/Winnipeg:20260529T103000
DTEND;TZID=America/Winnipeg:20260529T170000
DTSTAMP:20260419T172553
CREATED:20260318T153204Z
LAST-MODIFIED:20260318T153326Z
UID:10003224-1780050600-1780074000@eastmanimmigrantservices.com
SUMMARY:Car Seat Safety - Info Session (with MPI)
DESCRIPTION:Join the HIPPY and SWIS team in this amazing info session all about car seat safety. \nWith special guests from MPI\, learn about: \n\nThe importance of car seats\nThe 4 stages of a car seat\nHow to secure a child\nHow to know if a child has outgrown their car seat\n\nChildcare and snacks will be provided! \nFriday\, May 29th at 10:30AM \nUnited Church of Steinbach \nTo register\, visit: https://eis.carmis.ai/event-registration/?evt=EVT000000000000000000370
URL:https://eastmanimmigrantservices.com/event/car-seat-safety-info-session-with-mpi/
LOCATION:Steinbach United Church\, 541 Main Street\, Steinbach\, Manitoba\, R5G1K4\, Canada
CATEGORIES:HIPPY,SWIS
ATTACH;FMTTYPE=image/jpeg:https://eastmanimmigrantservices.com/wp-content/uploads/2026/03/iStock-1181554328-scaled.jpg
ORGANIZER;CN="Tiffany Froese":MAILTO:tiffany@eastmanis.com
END:VEVENT
END:VCALENDAR