BEGIN:VCALENDAR
VERSION:2.0
PRODID:-//Eastman Immigrant Services - ECPv6.13.2.1//NONSGML v1.0//EN
CALSCALE:GREGORIAN
METHOD:PUBLISH
X-WR-CALNAME:Eastman Immigrant Services
X-ORIGINAL-URL:https://eastmanimmigrantservices.com
X-WR-CALDESC:Events for Eastman Immigrant Services
REFRESH-INTERVAL;VALUE=DURATION:PT1H
X-Robots-Tag:noindex
X-PUBLISHED-TTL:PT1H
BEGIN:VTIMEZONE
TZID:America/Winnipeg
BEGIN:DAYLIGHT
TZOFFSETFROM:-0600
TZOFFSETTO:-0500
TZNAME:CDT
DTSTART:20250309T080000
END:DAYLIGHT
BEGIN:STANDARD
TZOFFSETFROM:-0500
TZOFFSETTO:-0600
TZNAME:CST
DTSTART:20251102T070000
END:STANDARD
END:VTIMEZONE
BEGIN:VEVENT
DTSTART;TZID=America/Winnipeg:20250916T140000
DTEND;TZID=America/Winnipeg:20250916T150000
DTSTAMP:20260419T105534
CREATED:20250723T173448Z
LAST-MODIFIED:20250723T181514Z
UID:10002249-1758031200-1758034800@eastmanimmigrantservices.com
SUMMARY:Stop Rent Stress: Get Rent Assist
DESCRIPTION:Join us for our next info session – all about Rent Assist! \nSeptember 16th \n2PM-3PM \nIn person at 275 Main Street \nOR join via Teams (link to follow with registration) \nLearn about: \n\nNon-EIA Rent Assist\nWho can apply\nWhat documents you need\nAdditional benefits (Manitoba Child Benefit\, Housing Benefit\, etc.)\n\nFeaturing guest speaker Clemence Nibayubahe from the Department of Families \nTo register\, visit https://eis.carmis.ai/event-registration/?evt=EVT000000000000000000290
URL:https://eastmanimmigrantservices.com/event/stop-rent-stress-get-rent-assist/
LOCATION:HIPPY/English for Work Office\, 275 Main Street\, Steinbach\, Manitoba\, R5G 1M6\, Canada
CATEGORIES:Settlement
ATTACH;FMTTYPE=image/jpeg:https://eastmanimmigrantservices.com/wp-content/uploads/2025/07/iStock-2223122921-scaled.jpg
ORGANIZER;CN="Keitel Hermoso":MAILTO:keitel@eastmanis.com
END:VEVENT
BEGIN:VEVENT
DTSTART;TZID=America/Winnipeg:20250911T170000
DTEND;TZID=America/Winnipeg:20250911T180000
DTSTAMP:20260419T105534
CREATED:20250821T202605Z
LAST-MODIFIED:20250821T203011Z
UID:10002621-1757610000-1757613600@eastmanimmigrantservices.com
SUMMARY:SRSS Info Night
DESCRIPTION:For families of high school students in the 2025/2026 school year.  \nReceive information from a Guidance Counsellor\, EAL teacher\, and Vice Principle of the Steinbach Regional Secondary School. Meet the teacher event to follow (see the school\, classrooms\, and meet your child’s teachers). \nLearn about: \n\nChoosing courses\nEarning credits\nExams\nStudent reports\nRoles of teaching\, support\, and administrative staff\n\nRefreshments will be served. \nThe info session will be held at the Steinbach Regional Secondary School Library. \nTo register\, visit https://eis.carmis.ai/event-registration/?evt=EVT000000000000000000295
URL:https://eastmanimmigrantservices.com/event/srss-info-night/
LOCATION:Steinbach Regional Secondary School\, 190 McKenzie Avenue\, Steinbach\, Manitoba\, R5G0L2\, Canada
CATEGORIES:SWIS
ATTACH;FMTTYPE=image/jpeg:https://eastmanimmigrantservices.com/wp-content/uploads/2025/08/iStock-1175884421.jpg
ORGANIZER;CN="Tiffany Froese":MAILTO:tiffany@eastmanis.com
END:VEVENT
BEGIN:VEVENT
DTSTART;TZID=America/Winnipeg:20250829T160000
DTEND;TZID=America/Winnipeg:20250829T210000
DTSTAMP:20260419T105534
CREATED:20250822T141858Z
LAST-MODIFIED:20250822T141858Z
UID:10002622-1756483200-1756501200@eastmanimmigrantservices.com
SUMMARY:Night Market
DESCRIPTION:We are collaborating with Pat Porter Active Living Centre to bring you the first ever Night Market! \nJoin us for amazing food\, great entertainment\, creative vendors\, and lots to do for your kids! \nNo registration necessary – we can’t wait to see you there!
URL:https://eastmanimmigrantservices.com/event/night-market/
LOCATION:Pat Porter Active Living Centre\, 10 Chrysler Gate\, Steinbach\, Manitoba\, R5G2E6\, Canada
CATEGORIES:VIC
ATTACH;FMTTYPE=image/jpeg:https://eastmanimmigrantservices.com/wp-content/uploads/2025/08/iStock-877030040-2.jpg
ORGANIZER;CN="Bharti":MAILTO:bharti@eastmanis.com
END:VEVENT
BEGIN:VEVENT
DTSTART;TZID=America/Winnipeg:20250828T170000
DTEND;TZID=America/Winnipeg:20250828T180000
DTSTAMP:20260419T105534
CREATED:20250821T201914Z
LAST-MODIFIED:20250821T202043Z
UID:10002620-1756400400-1756404000@eastmanimmigrantservices.com
SUMMARY:School Prep - Info Session
DESCRIPTION:This session is specially designed for newcomer students in elementary\, middle\, and high school who will be attending schools in the Hanover School Division. \nTogether\, we’ll explore what school life in Canada is like\, how to build confidence in the classroom\, and practical ways to manage time and schedules. \nStudents will also gain important school readiness tips that aren’t usually taught in class. Come ready to learn\, ask questions\, and connect as we get prepared for a successful school year! \nTo register\, visit https://eis.carmis.ai/event-registration/?evt=EVT000000000000000000294
URL:https://eastmanimmigrantservices.com/event/school-prep-info-session/
LOCATION:K.R. Barkman Park\, 510 Wilson Street\, Steinbach\, Manitoba\, R5G 0N4\, Canada
CATEGORIES:SWIS
ATTACH;FMTTYPE=image/jpeg:https://eastmanimmigrantservices.com/wp-content/uploads/2025/08/iStock-1820274616.jpg
ORGANIZER;CN="Bruce Gasmena":MAILTO:bruce@eastmanis.com
END:VEVENT
BEGIN:VEVENT
DTSTART;TZID=America/Winnipeg:20250826T180000
DTEND;TZID=America/Winnipeg:20250826T200000
DTSTAMP:20260419T105534
CREATED:20250709T192405Z
LAST-MODIFIED:20250709T192820Z
UID:10002248-1756231200-1756238400@eastmanimmigrantservices.com
SUMMARY:First-Time Home Buyer: Overview of Home Buying Programs and Incentives
DESCRIPTION:Join us for our First-Time Home Buyer information session! \nLearn about: \n\nOverview of home buying programs\nGetting preapproved for a mortgage\nUnderstanding home buying costs\nProvincial and territorial programs\nTips for finding and buying a home\n\nTo register\, visit https://eis.carmis.ai/event-registration/?evt=EVT000000000000000000286
URL:https://eastmanimmigrantservices.com/event/first-time-home-buyer-overview-of-home-buying-programs-and-incentives/
LOCATION:HIPPY/English for Work Office\, 275 Main Street\, Steinbach\, Manitoba\, R5G 1M6\, Canada
CATEGORIES:Settlement
ATTACH;FMTTYPE=image/jpeg:https://eastmanimmigrantservices.com/wp-content/uploads/2025/07/iStock-1822186572-1.jpg
ORGANIZER;CN="Itrat Anwar":MAILTO:itrat@eastmanis.com
END:VEVENT
BEGIN:VEVENT
DTSTART;TZID=America/Winnipeg:20250815T173000
DTEND;TZID=America/Winnipeg:20250815T193000
DTSTAMP:20260419T105534
CREATED:20250725T143141Z
LAST-MODIFIED:20250725T143256Z
UID:10002250-1755279000-1755286200@eastmanimmigrantservices.com
SUMMARY:Feeders & Friendship
DESCRIPTION:Join us for the Feeders & Friendship Birdhouse decorating workshop! \nExpect to: \n\nPaint birdhouses and feeders\nHave fun games for kids\nMake friends and share experiences\nChat and snack\nGet more information about E.I.S. services\n\nThis workshop is a collaboration with Pat Porter Active Living Centre and the Healthy Together Now grant. \nRegister by visiting https://eis.carmis.ai/event-registration/?evt=EVT000000000000000000292
URL:https://eastmanimmigrantservices.com/event/feeders-friendship/
LOCATION:A.D. Penner Park\, Park Road East\, Steinbach\, Manitoba\, R5G1V4\, Canada
CATEGORIES:HIPPY,VIC
ATTACH;FMTTYPE=image/jpeg:https://eastmanimmigrantservices.com/wp-content/uploads/2025/07/iStock-1173930017-scaled.jpg
ORGANIZER;CN="Bharti":MAILTO:bharti@eastmanis.com
END:VEVENT
BEGIN:VEVENT
DTSTART;TZID=America/Winnipeg:20250815T130000
DTEND;TZID=America/Winnipeg:20250815T160000
DTSTAMP:20260419T105534
CREATED:20250811T205928Z
LAST-MODIFIED:20250811T210022Z
UID:10002255-1755262800-1755273600@eastmanimmigrantservices.com
SUMMARY:The Kindness Connection - Mentorship Program
DESCRIPTION:The Kindness Connection is a youth mentorship program centered around positive mental health and well-being.\n\n\n\nHere your child can learn how to care for themselves and others\, using the ThrivalKits.\n\n\n\nSnacks will be provided and each child will get to go home with their personalized ThrivalKit shoebox and a participation certificate.
URL:https://eastmanimmigrantservices.com/event/the-kindness-connection-mentorship-program/2025-08-15/
LOCATION:HIPPY/English for Work Office\, 275 Main Street\, Steinbach\, Manitoba\, R5G 1M6\, Canada
CATEGORIES:SWIS
ATTACH;FMTTYPE=image/jpeg:https://eastmanimmigrantservices.com/wp-content/uploads/2025/08/iStock-1435661969.jpg
END:VEVENT
BEGIN:VEVENT
DTSTART;TZID=America/Winnipeg:20250814T130000
DTEND;TZID=America/Winnipeg:20250814T160000
DTSTAMP:20260419T105534
CREATED:20250811T205928Z
LAST-MODIFIED:20250811T210022Z
UID:10002254-1755176400-1755187200@eastmanimmigrantservices.com
SUMMARY:The Kindness Connection - Mentorship Program
DESCRIPTION:The Kindness Connection is a youth mentorship program centered around positive mental health and well-being.\n\n\n\nHere your child can learn how to care for themselves and others\, using the ThrivalKits.\n\n\n\nSnacks will be provided and each child will get to go home with their personalized ThrivalKit shoebox and a participation certificate.
URL:https://eastmanimmigrantservices.com/event/the-kindness-connection-mentorship-program/2025-08-14/
LOCATION:HIPPY/English for Work Office\, 275 Main Street\, Steinbach\, Manitoba\, R5G 1M6\, Canada
CATEGORIES:SWIS
ATTACH;FMTTYPE=image/jpeg:https://eastmanimmigrantservices.com/wp-content/uploads/2025/08/iStock-1435661969.jpg
END:VEVENT
BEGIN:VEVENT
DTSTART;TZID=America/Winnipeg:20250813T130000
DTEND;TZID=America/Winnipeg:20250813T160000
DTSTAMP:20260419T105534
CREATED:20250811T205928Z
LAST-MODIFIED:20250811T210022Z
UID:10002253-1755090000-1755100800@eastmanimmigrantservices.com
SUMMARY:The Kindness Connection - Mentorship Program
DESCRIPTION:The Kindness Connection is a youth mentorship program centered around positive mental health and well-being.\n\n\n\nHere your child can learn how to care for themselves and others\, using the ThrivalKits.\n\n\n\nSnacks will be provided and each child will get to go home with their personalized ThrivalKit shoebox and a participation certificate.
URL:https://eastmanimmigrantservices.com/event/the-kindness-connection-mentorship-program/2025-08-13/
LOCATION:HIPPY/English for Work Office\, 275 Main Street\, Steinbach\, Manitoba\, R5G 1M6\, Canada
CATEGORIES:SWIS
ATTACH;FMTTYPE=image/jpeg:https://eastmanimmigrantservices.com/wp-content/uploads/2025/08/iStock-1435661969.jpg
END:VEVENT
BEGIN:VEVENT
DTSTART;TZID=America/Winnipeg:20250812T130000
DTEND;TZID=America/Winnipeg:20250812T160000
DTSTAMP:20260419T105534
CREATED:20250811T205928Z
LAST-MODIFIED:20250811T210022Z
UID:10002252-1755003600-1755014400@eastmanimmigrantservices.com
SUMMARY:The Kindness Connection - Mentorship Program
DESCRIPTION:The Kindness Connection is a youth mentorship program centered around positive mental health and well-being.\n\n\n\nHere your child can learn how to care for themselves and others\, using the ThrivalKits.\n\n\n\nSnacks will be provided and each child will get to go home with their personalized ThrivalKit shoebox and a participation certificate.
URL:https://eastmanimmigrantservices.com/event/the-kindness-connection-mentorship-program/2025-08-12/
LOCATION:HIPPY/English for Work Office\, 275 Main Street\, Steinbach\, Manitoba\, R5G 1M6\, Canada
CATEGORIES:SWIS
ATTACH;FMTTYPE=image/jpeg:https://eastmanimmigrantservices.com/wp-content/uploads/2025/08/iStock-1435661969.jpg
END:VEVENT
BEGIN:VEVENT
DTSTART;TZID=America/Winnipeg:20250811T130000
DTEND;TZID=America/Winnipeg:20250811T160000
DTSTAMP:20260419T105534
CREATED:20250811T205928Z
LAST-MODIFIED:20250811T210022Z
UID:10002251-1754917200-1754928000@eastmanimmigrantservices.com
SUMMARY:The Kindness Connection - Mentorship Program
DESCRIPTION:The Kindness Connection is a youth mentorship program centered around positive mental health and well-being.\n\n\n\nHere your child can learn how to care for themselves and others\, using the ThrivalKits.\n\n\n\nSnacks will be provided and each child will get to go home with their personalized ThrivalKit shoebox and a participation certificate.
URL:https://eastmanimmigrantservices.com/event/the-kindness-connection-mentorship-program/2025-08-11/
LOCATION:HIPPY/English for Work Office\, 275 Main Street\, Steinbach\, Manitoba\, R5G 1M6\, Canada
CATEGORIES:SWIS
ATTACH;FMTTYPE=image/jpeg:https://eastmanimmigrantservices.com/wp-content/uploads/2025/08/iStock-1435661969.jpg
END:VEVENT
BEGIN:VEVENT
DTSTART;TZID=America/Winnipeg:20250729T183000
DTEND;TZID=America/Winnipeg:20250729T200000
DTSTAMP:20260419T105534
CREATED:20250709T191230Z
LAST-MODIFIED:20250709T191304Z
UID:10002247-1753813800-1753819200@eastmanimmigrantservices.com
SUMMARY:Welcome Evening - Ice Cream Party
DESCRIPTION:Welcome\, newcomers! \nWe’re so glad you’re here. \nThis evening is your chance to meet new people\, learn about our community\, and feel right at home. \nWe would also love to see parents with children! \nIce cream\, snacks and coffee will be provided.
URL:https://eastmanimmigrantservices.com/event/welcome-evening-ice-cream-party/
LOCATION:A.D. Penner Park\, Park Road East\, Steinbach\, Manitoba\, R5G1V4\, Canada
ATTACH;FMTTYPE=image/jpeg:https://eastmanimmigrantservices.com/wp-content/uploads/2025/07/iStock-2193588540-1.jpg
ORGANIZER;CN="Sviatoslav Baliuiev":MAILTO:sviatoslav@eastmanis.com
END:VEVENT
BEGIN:VEVENT
DTSTART;TZID=America/Winnipeg:20250718T130000
DTEND;TZID=America/Winnipeg:20250718T150000
DTSTAMP:20260419T105534
CREATED:20250512T180649Z
LAST-MODIFIED:20250612T144821Z
UID:10000005-1752843600-1752850800@eastmanimmigrantservices.com
SUMMARY:SWIS Summer Bike Program
DESCRIPTION:Join the SWIS team for our Summer Bike Program 2025! \nJuly 14th – 18th \n1PM – 3PM \nSteinbach Regional Secondary School bus loop \nLearn how to set up\, maintain\, and ride your bike! Become familiar with the rules of the road in Canada and practice riding for fun and safety! \nFree bikes and helmets will be given out to all 20 participants thanks to Jumpstart! \nKids born 2012-2015 are welcome to register! \nRegister by visiting https://eis.carmis.ai/event-registration/?evt=EVT000000000000000000266
URL:https://eastmanimmigrantservices.com/event/swis-summer-bike-program/2025-07-18/
LOCATION:Steinbach Regional Secondary School Bus Loop\, 190 McKenzie Ave\, Steinbach\, Manitoba\, R5G 0L2\, Canada
ATTACH;FMTTYPE=image/jpeg:https://eastmanimmigrantservices.com/wp-content/uploads/2025/05/iStock-614859860-4.jpg
GEO:49.515681;-96.689296
X-APPLE-STRUCTURED-LOCATION;VALUE=URI;X-ADDRESS=Steinbach Regional Secondary School Bus Loop 190 McKenzie Ave Steinbach Manitoba R5G 0L2 Canada;X-APPLE-RADIUS=500;X-TITLE=190 McKenzie Ave:geo:-96.689296,49.515681
END:VEVENT
BEGIN:VEVENT
DTSTART;TZID=America/Winnipeg:20250717T130000
DTEND;TZID=America/Winnipeg:20250717T150000
DTSTAMP:20260419T105534
CREATED:20250512T180649Z
LAST-MODIFIED:20250612T144821Z
UID:10000004-1752757200-1752764400@eastmanimmigrantservices.com
SUMMARY:SWIS Summer Bike Program
DESCRIPTION:Join the SWIS team for our Summer Bike Program 2025! \nJuly 14th – 18th \n1PM – 3PM \nSteinbach Regional Secondary School bus loop \nLearn how to set up\, maintain\, and ride your bike! Become familiar with the rules of the road in Canada and practice riding for fun and safety! \nFree bikes and helmets will be given out to all 20 participants thanks to Jumpstart! \nKids born 2012-2015 are welcome to register! \nRegister by visiting https://eis.carmis.ai/event-registration/?evt=EVT000000000000000000266
URL:https://eastmanimmigrantservices.com/event/swis-summer-bike-program/2025-07-17/
LOCATION:Steinbach Regional Secondary School Bus Loop\, 190 McKenzie Ave\, Steinbach\, Manitoba\, R5G 0L2\, Canada
ATTACH;FMTTYPE=image/jpeg:https://eastmanimmigrantservices.com/wp-content/uploads/2025/05/iStock-614859860-4.jpg
GEO:49.515681;-96.689296
X-APPLE-STRUCTURED-LOCATION;VALUE=URI;X-ADDRESS=Steinbach Regional Secondary School Bus Loop 190 McKenzie Ave Steinbach Manitoba R5G 0L2 Canada;X-APPLE-RADIUS=500;X-TITLE=190 McKenzie Ave:geo:-96.689296,49.515681
END:VEVENT
BEGIN:VEVENT
DTSTART;TZID=America/Winnipeg:20250716T130000
DTEND;TZID=America/Winnipeg:20250716T150000
DTSTAMP:20260419T105534
CREATED:20250512T180649Z
LAST-MODIFIED:20250612T144821Z
UID:10000003-1752670800-1752678000@eastmanimmigrantservices.com
SUMMARY:SWIS Summer Bike Program
DESCRIPTION:Join the SWIS team for our Summer Bike Program 2025! \nJuly 14th – 18th \n1PM – 3PM \nSteinbach Regional Secondary School bus loop \nLearn how to set up\, maintain\, and ride your bike! Become familiar with the rules of the road in Canada and practice riding for fun and safety! \nFree bikes and helmets will be given out to all 20 participants thanks to Jumpstart! \nKids born 2012-2015 are welcome to register! \nRegister by visiting https://eis.carmis.ai/event-registration/?evt=EVT000000000000000000266
URL:https://eastmanimmigrantservices.com/event/swis-summer-bike-program/2025-07-16/
LOCATION:Steinbach Regional Secondary School Bus Loop\, 190 McKenzie Ave\, Steinbach\, Manitoba\, R5G 0L2\, Canada
ATTACH;FMTTYPE=image/jpeg:https://eastmanimmigrantservices.com/wp-content/uploads/2025/05/iStock-614859860-4.jpg
GEO:49.515681;-96.689296
X-APPLE-STRUCTURED-LOCATION;VALUE=URI;X-ADDRESS=Steinbach Regional Secondary School Bus Loop 190 McKenzie Ave Steinbach Manitoba R5G 0L2 Canada;X-APPLE-RADIUS=500;X-TITLE=190 McKenzie Ave:geo:-96.689296,49.515681
END:VEVENT
BEGIN:VEVENT
DTSTART;TZID=America/Winnipeg:20250715T130000
DTEND;TZID=America/Winnipeg:20250715T150000
DTSTAMP:20260419T105534
CREATED:20250512T180649Z
LAST-MODIFIED:20250612T144821Z
UID:10000002-1752584400-1752591600@eastmanimmigrantservices.com
SUMMARY:SWIS Summer Bike Program
DESCRIPTION:Join the SWIS team for our Summer Bike Program 2025! \nJuly 14th – 18th \n1PM – 3PM \nSteinbach Regional Secondary School bus loop \nLearn how to set up\, maintain\, and ride your bike! Become familiar with the rules of the road in Canada and practice riding for fun and safety! \nFree bikes and helmets will be given out to all 20 participants thanks to Jumpstart! \nKids born 2012-2015 are welcome to register! \nRegister by visiting https://eis.carmis.ai/event-registration/?evt=EVT000000000000000000266
URL:https://eastmanimmigrantservices.com/event/swis-summer-bike-program/2025-07-15/
LOCATION:Steinbach Regional Secondary School Bus Loop\, 190 McKenzie Ave\, Steinbach\, Manitoba\, R5G 0L2\, Canada
ATTACH;FMTTYPE=image/jpeg:https://eastmanimmigrantservices.com/wp-content/uploads/2025/05/iStock-614859860-4.jpg
GEO:49.515681;-96.689296
X-APPLE-STRUCTURED-LOCATION;VALUE=URI;X-ADDRESS=Steinbach Regional Secondary School Bus Loop 190 McKenzie Ave Steinbach Manitoba R5G 0L2 Canada;X-APPLE-RADIUS=500;X-TITLE=190 McKenzie Ave:geo:-96.689296,49.515681
END:VEVENT
BEGIN:VEVENT
DTSTART;TZID=America/Winnipeg:20250714T130000
DTEND;TZID=America/Winnipeg:20250714T150000
DTSTAMP:20260419T105534
CREATED:20250512T180649Z
LAST-MODIFIED:20250612T144821Z
UID:10000001-1752498000-1752505200@eastmanimmigrantservices.com
SUMMARY:SWIS Summer Bike Program
DESCRIPTION:Join the SWIS team for our Summer Bike Program 2025! \nJuly 14th – 18th \n1PM – 3PM \nSteinbach Regional Secondary School bus loop \nLearn how to set up\, maintain\, and ride your bike! Become familiar with the rules of the road in Canada and practice riding for fun and safety! \nFree bikes and helmets will be given out to all 20 participants thanks to Jumpstart! \nKids born 2012-2015 are welcome to register! \nRegister by visiting https://eis.carmis.ai/event-registration/?evt=EVT000000000000000000266
URL:https://eastmanimmigrantservices.com/event/swis-summer-bike-program/2025-07-14/
LOCATION:Steinbach Regional Secondary School Bus Loop\, 190 McKenzie Ave\, Steinbach\, Manitoba\, R5G 0L2\, Canada
ATTACH;FMTTYPE=image/jpeg:https://eastmanimmigrantservices.com/wp-content/uploads/2025/05/iStock-614859860-4.jpg
GEO:49.515681;-96.689296
X-APPLE-STRUCTURED-LOCATION;VALUE=URI;X-ADDRESS=Steinbach Regional Secondary School Bus Loop 190 McKenzie Ave Steinbach Manitoba R5G 0L2 Canada;X-APPLE-RADIUS=500;X-TITLE=190 McKenzie Ave:geo:-96.689296,49.515681
END:VEVENT
BEGIN:VEVENT
DTSTART;TZID=America/Winnipeg:20250708T183000
DTEND;TZID=America/Winnipeg:20250708T200000
DTSTAMP:20260419T105534
CREATED:20250619T135621Z
LAST-MODIFIED:20250619T135621Z
UID:10002246-1751999400-1752004800@eastmanimmigrantservices.com
SUMMARY:Policing in Canada - Info Session
DESCRIPTION:Join us for our Policing in Canada Info Session! \nTuesday\, June 8th at 6:30PM \n275 Main Street\, Steinbach \nLearn about: \n\nThe basics of policing in Canada\nTraffic stops\nYour rights in the community\nWhat to do when being approached by police\nHave the opportunity to ask local law enforcement questions that are important to you!\n\nThis session is a collaboration with Corporal Terry Sundell and Constable Dennis Redikop. \nTo register\, visit: https://eis.carmis.ai/event-registration/?evt=EVT000000000000000000283
URL:https://eastmanimmigrantservices.com/event/policing-in-canada-info-session/
LOCATION:HIPPY/English for Work Office\, 275 Main Street\, Steinbach\, Manitoba\, R5G 1M6\, Canada
CATEGORIES:Settlement
ATTACH;FMTTYPE=image/jpeg:https://eastmanimmigrantservices.com/wp-content/uploads/2025/06/iStock-1575561898-scaled.jpg
END:VEVENT
BEGIN:VEVENT
DTSTART;TZID=America/Winnipeg:20250624T183000
DTEND;TZID=America/Winnipeg:20250624T200000
DTSTAMP:20260419T105534
CREATED:20250603T150858Z
LAST-MODIFIED:20250619T160749Z
UID:10001260-1750789800-1750795200@eastmanimmigrantservices.com
SUMMARY:Welcome Evening - Pizza Party
DESCRIPTION:Did you immigrate to Canada recently? Then this event is for you! \nWe are hosting next Welcome Evening of 2025! \nThis evening is your chance to meet new people\, learn about our community\, and feel right at home. \nTuesday\, June 24 \nFrom 6:30PM-8:00PM \nAt the Pat Porter Active Living Centre in Steinbach. \nPizza\, snacks and coffee will be provided. \nTo register for the event\, please visit https://eis.carmis.ai/event-registration/?evt=EVT000000000000000000280
URL:https://eastmanimmigrantservices.com/event/welcome-evening-pizza-party/
ATTACH;FMTTYPE=image/jpeg:https://eastmanimmigrantservices.com/wp-content/uploads/2025/06/iStock-1187643058-scaled.jpg
ORGANIZER;CN="Sviatoslav Baliuiev":MAILTO:sviatoslav@eastmanis.com
END:VEVENT
BEGIN:VEVENT
DTSTART;TZID=America/Winnipeg:20250619T180000
DTEND;TZID=America/Winnipeg:20250619T180000
DTSTAMP:20260419T105534
CREATED:20250523T181924Z
LAST-MODIFIED:20250523T182520Z
UID:10001258-1750356000-1750356000@eastmanimmigrantservices.com
SUMMARY:Credit Cards & Debt Info Session w/RBC
DESCRIPTION:Our Settlement department will be holding an online info session in collaboration with RBC on Thursday\, June 19th at 6PM!\n\n\n\nThis info session will cover topics such as how to get and maintain a credit card\, what is a credit score\, interest\, and debt management.\n\n\n\nTo register\, simply visit https://linktr.ee/eastmanis\n\n\n\nThis info session will be hosted through Webex. Instructions to attend the event will be sent to the email written in your registration request.
URL:https://eastmanimmigrantservices.com/event/credit-cards-debt-info-session-w-rbc/
ATTACH;FMTTYPE=image/jpeg:https://eastmanimmigrantservices.com/wp-content/uploads/2025/05/iStock-1711144461.jpg
END:VEVENT
BEGIN:VEVENT
DTSTART;TZID=America/Winnipeg:20250616T180000
DTEND;TZID=America/Winnipeg:20250616T200000
DTSTAMP:20260419T105534
CREATED:20250603T151229Z
LAST-MODIFIED:20250612T180037Z
UID:10001261-1750096800-1750104000@eastmanimmigrantservices.com
SUMMARY:Making Friends & Understanding Canadian Culture
DESCRIPTION:A fun and interactive session to help newcomer children and their parents understand social norms\, cultural values\, and how to build friendships in Canada! \nMonday\, June 16th \n6PM \nK.R. Barkman Park in Steinbach \nGuest Speaker: Melissa Wiebe (Teacher at Hanover School Division) \nVisit https://eis.carmis.ai/event-registration/?evt=EVT000000000000000000279 to register.
URL:https://eastmanimmigrantservices.com/event/making-friends-understanding-canadian-culture/
ATTACH;FMTTYPE=image/jpeg:https://eastmanimmigrantservices.com/wp-content/uploads/2025/06/iStock-1145906480-1.jpg
ORGANIZER;CN="Bruce Gasmena":MAILTO:bruce@eastmanis.com
END:VEVENT
BEGIN:VEVENT
DTSTART;TZID=America/Winnipeg:20250526T180000
DTEND;TZID=America/Winnipeg:20250526T193000
DTSTAMP:20260419T105534
CREATED:20250523T181806Z
LAST-MODIFIED:20250523T182450Z
UID:10001257-1748282400-1748287800@eastmanimmigrantservices.com
SUMMARY:Anti-Human Trafficking Info Session
DESCRIPTION:This info session will be providing a brief overview of human trafficking in Canada\, including key facts\, warning signs\, and ways to help! \nLocation: B1-275 Main Street \nSteinbach\, Manitoba \nDate: May 26\, 2025 \nTime: 6PM-7:30PM \nTo register\, visit: http://linktr.ee/eastmanis
URL:https://eastmanimmigrantservices.com/event/anti-human-trafficking-info-session/
ATTACH;FMTTYPE=image/jpeg:https://eastmanimmigrantservices.com/wp-content/uploads/2025/05/iStock-1179525839.jpg
END:VEVENT
END:VCALENDAR