BEGIN:VCALENDAR
VERSION:2.0
PRODID:-//Eastman Immigrant Services - ECPv6.13.2.1//NONSGML v1.0//EN
CALSCALE:GREGORIAN
METHOD:PUBLISH
X-ORIGINAL-URL:https://eastmanimmigrantservices.com
X-WR-CALDESC:Events for Eastman Immigrant Services
REFRESH-INTERVAL;VALUE=DURATION:PT1H
X-Robots-Tag:noindex
X-PUBLISHED-TTL:PT1H
BEGIN:VTIMEZONE
TZID:America/Winnipeg
BEGIN:DAYLIGHT
TZOFFSETFROM:-0600
TZOFFSETTO:-0500
TZNAME:CDT
DTSTART:20250309T080000
END:DAYLIGHT
BEGIN:STANDARD
TZOFFSETFROM:-0500
TZOFFSETTO:-0600
TZNAME:CST
DTSTART:20251102T070000
END:STANDARD
END:VTIMEZONE
BEGIN:VEVENT
DTSTART;TZID=America/Winnipeg:20250811T130000
DTEND;TZID=America/Winnipeg:20250811T160000
DTSTAMP:20260419T111000
CREATED:20250811T205928Z
LAST-MODIFIED:20250811T210022Z
UID:10002251-1754917200-1754928000@eastmanimmigrantservices.com
SUMMARY:The Kindness Connection - Mentorship Program
DESCRIPTION:The Kindness Connection is a youth mentorship program centered around positive mental health and well-being.\n\n\n\nHere your child can learn how to care for themselves and others\, using the ThrivalKits.\n\n\n\nSnacks will be provided and each child will get to go home with their personalized ThrivalKit shoebox and a participation certificate.
URL:https://eastmanimmigrantservices.com/event/the-kindness-connection-mentorship-program/2025-08-11/
LOCATION:HIPPY/English for Work Office\, 275 Main Street\, Steinbach\, Manitoba\, R5G 1M6\, Canada
CATEGORIES:SWIS
ATTACH;FMTTYPE=image/jpeg:https://eastmanimmigrantservices.com/wp-content/uploads/2025/08/iStock-1435661969.jpg
END:VEVENT
BEGIN:VEVENT
DTSTART;TZID=America/Winnipeg:20250812T130000
DTEND;TZID=America/Winnipeg:20250812T160000
DTSTAMP:20260419T111000
CREATED:20250811T205928Z
LAST-MODIFIED:20250811T210022Z
UID:10002252-1755003600-1755014400@eastmanimmigrantservices.com
SUMMARY:The Kindness Connection - Mentorship Program
DESCRIPTION:The Kindness Connection is a youth mentorship program centered around positive mental health and well-being.\n\n\n\nHere your child can learn how to care for themselves and others\, using the ThrivalKits.\n\n\n\nSnacks will be provided and each child will get to go home with their personalized ThrivalKit shoebox and a participation certificate.
URL:https://eastmanimmigrantservices.com/event/the-kindness-connection-mentorship-program/2025-08-12/
LOCATION:HIPPY/English for Work Office\, 275 Main Street\, Steinbach\, Manitoba\, R5G 1M6\, Canada
CATEGORIES:SWIS
ATTACH;FMTTYPE=image/jpeg:https://eastmanimmigrantservices.com/wp-content/uploads/2025/08/iStock-1435661969.jpg
END:VEVENT
BEGIN:VEVENT
DTSTART;TZID=America/Winnipeg:20250813T130000
DTEND;TZID=America/Winnipeg:20250813T160000
DTSTAMP:20260419T111000
CREATED:20250811T205928Z
LAST-MODIFIED:20250811T210022Z
UID:10002253-1755090000-1755100800@eastmanimmigrantservices.com
SUMMARY:The Kindness Connection - Mentorship Program
DESCRIPTION:The Kindness Connection is a youth mentorship program centered around positive mental health and well-being.\n\n\n\nHere your child can learn how to care for themselves and others\, using the ThrivalKits.\n\n\n\nSnacks will be provided and each child will get to go home with their personalized ThrivalKit shoebox and a participation certificate.
URL:https://eastmanimmigrantservices.com/event/the-kindness-connection-mentorship-program/2025-08-13/
LOCATION:HIPPY/English for Work Office\, 275 Main Street\, Steinbach\, Manitoba\, R5G 1M6\, Canada
CATEGORIES:SWIS
ATTACH;FMTTYPE=image/jpeg:https://eastmanimmigrantservices.com/wp-content/uploads/2025/08/iStock-1435661969.jpg
END:VEVENT
BEGIN:VEVENT
DTSTART;TZID=America/Winnipeg:20250814T130000
DTEND;TZID=America/Winnipeg:20250814T160000
DTSTAMP:20260419T111000
CREATED:20250811T205928Z
LAST-MODIFIED:20250811T210022Z
UID:10002254-1755176400-1755187200@eastmanimmigrantservices.com
SUMMARY:The Kindness Connection - Mentorship Program
DESCRIPTION:The Kindness Connection is a youth mentorship program centered around positive mental health and well-being.\n\n\n\nHere your child can learn how to care for themselves and others\, using the ThrivalKits.\n\n\n\nSnacks will be provided and each child will get to go home with their personalized ThrivalKit shoebox and a participation certificate.
URL:https://eastmanimmigrantservices.com/event/the-kindness-connection-mentorship-program/2025-08-14/
LOCATION:HIPPY/English for Work Office\, 275 Main Street\, Steinbach\, Manitoba\, R5G 1M6\, Canada
CATEGORIES:SWIS
ATTACH;FMTTYPE=image/jpeg:https://eastmanimmigrantservices.com/wp-content/uploads/2025/08/iStock-1435661969.jpg
END:VEVENT
BEGIN:VEVENT
DTSTART;TZID=America/Winnipeg:20250815T130000
DTEND;TZID=America/Winnipeg:20250815T160000
DTSTAMP:20260419T111000
CREATED:20250811T205928Z
LAST-MODIFIED:20250811T210022Z
UID:10002255-1755262800-1755273600@eastmanimmigrantservices.com
SUMMARY:The Kindness Connection - Mentorship Program
DESCRIPTION:The Kindness Connection is a youth mentorship program centered around positive mental health and well-being.\n\n\n\nHere your child can learn how to care for themselves and others\, using the ThrivalKits.\n\n\n\nSnacks will be provided and each child will get to go home with their personalized ThrivalKit shoebox and a participation certificate.
URL:https://eastmanimmigrantservices.com/event/the-kindness-connection-mentorship-program/2025-08-15/
LOCATION:HIPPY/English for Work Office\, 275 Main Street\, Steinbach\, Manitoba\, R5G 1M6\, Canada
CATEGORIES:SWIS
ATTACH;FMTTYPE=image/jpeg:https://eastmanimmigrantservices.com/wp-content/uploads/2025/08/iStock-1435661969.jpg
END:VEVENT
BEGIN:VEVENT
DTSTART;TZID=America/Winnipeg:20250815T173000
DTEND;TZID=America/Winnipeg:20250815T193000
DTSTAMP:20260419T111000
CREATED:20250725T143141Z
LAST-MODIFIED:20250725T143256Z
UID:10002250-1755279000-1755286200@eastmanimmigrantservices.com
SUMMARY:Feeders & Friendship
DESCRIPTION:Join us for the Feeders & Friendship Birdhouse decorating workshop! \nExpect to: \n\nPaint birdhouses and feeders\nHave fun games for kids\nMake friends and share experiences\nChat and snack\nGet more information about E.I.S. services\n\nThis workshop is a collaboration with Pat Porter Active Living Centre and the Healthy Together Now grant. \nRegister by visiting https://eis.carmis.ai/event-registration/?evt=EVT000000000000000000292
URL:https://eastmanimmigrantservices.com/event/feeders-friendship/
LOCATION:A.D. Penner Park\, Park Road East\, Steinbach\, Manitoba\, R5G1V4\, Canada
CATEGORIES:HIPPY,VIC
ATTACH;FMTTYPE=image/jpeg:https://eastmanimmigrantservices.com/wp-content/uploads/2025/07/iStock-1173930017-scaled.jpg
ORGANIZER;CN="Bharti":MAILTO:bharti@eastmanis.com
END:VEVENT
BEGIN:VEVENT
DTSTART;TZID=America/Winnipeg:20250826T180000
DTEND;TZID=America/Winnipeg:20250826T200000
DTSTAMP:20260419T111000
CREATED:20250709T192405Z
LAST-MODIFIED:20250709T192820Z
UID:10002248-1756231200-1756238400@eastmanimmigrantservices.com
SUMMARY:First-Time Home Buyer: Overview of Home Buying Programs and Incentives
DESCRIPTION:Join us for our First-Time Home Buyer information session! \nLearn about: \n\nOverview of home buying programs\nGetting preapproved for a mortgage\nUnderstanding home buying costs\nProvincial and territorial programs\nTips for finding and buying a home\n\nTo register\, visit https://eis.carmis.ai/event-registration/?evt=EVT000000000000000000286
URL:https://eastmanimmigrantservices.com/event/first-time-home-buyer-overview-of-home-buying-programs-and-incentives/
LOCATION:HIPPY/English for Work Office\, 275 Main Street\, Steinbach\, Manitoba\, R5G 1M6\, Canada
CATEGORIES:Settlement
ATTACH;FMTTYPE=image/jpeg:https://eastmanimmigrantservices.com/wp-content/uploads/2025/07/iStock-1822186572-1.jpg
ORGANIZER;CN="Itrat Anwar":MAILTO:itrat@eastmanis.com
END:VEVENT
BEGIN:VEVENT
DTSTART;TZID=America/Winnipeg:20250828T170000
DTEND;TZID=America/Winnipeg:20250828T180000
DTSTAMP:20260419T111000
CREATED:20250821T201914Z
LAST-MODIFIED:20250821T202043Z
UID:10002620-1756400400-1756404000@eastmanimmigrantservices.com
SUMMARY:School Prep - Info Session
DESCRIPTION:This session is specially designed for newcomer students in elementary\, middle\, and high school who will be attending schools in the Hanover School Division. \nTogether\, we’ll explore what school life in Canada is like\, how to build confidence in the classroom\, and practical ways to manage time and schedules. \nStudents will also gain important school readiness tips that aren’t usually taught in class. Come ready to learn\, ask questions\, and connect as we get prepared for a successful school year! \nTo register\, visit https://eis.carmis.ai/event-registration/?evt=EVT000000000000000000294
URL:https://eastmanimmigrantservices.com/event/school-prep-info-session/
LOCATION:K.R. Barkman Park\, 510 Wilson Street\, Steinbach\, Manitoba\, R5G 0N4\, Canada
CATEGORIES:SWIS
ATTACH;FMTTYPE=image/jpeg:https://eastmanimmigrantservices.com/wp-content/uploads/2025/08/iStock-1820274616.jpg
ORGANIZER;CN="Bruce Gasmena":MAILTO:bruce@eastmanis.com
END:VEVENT
BEGIN:VEVENT
DTSTART;TZID=America/Winnipeg:20250829T160000
DTEND;TZID=America/Winnipeg:20250829T210000
DTSTAMP:20260419T111000
CREATED:20250822T141858Z
LAST-MODIFIED:20250822T141858Z
UID:10002622-1756483200-1756501200@eastmanimmigrantservices.com
SUMMARY:Night Market
DESCRIPTION:We are collaborating with Pat Porter Active Living Centre to bring you the first ever Night Market! \nJoin us for amazing food\, great entertainment\, creative vendors\, and lots to do for your kids! \nNo registration necessary – we can’t wait to see you there!
URL:https://eastmanimmigrantservices.com/event/night-market/
LOCATION:Pat Porter Active Living Centre\, 10 Chrysler Gate\, Steinbach\, Manitoba\, R5G2E6\, Canada
CATEGORIES:VIC
ATTACH;FMTTYPE=image/jpeg:https://eastmanimmigrantservices.com/wp-content/uploads/2025/08/iStock-877030040-2.jpg
ORGANIZER;CN="Bharti":MAILTO:bharti@eastmanis.com
END:VEVENT
END:VCALENDAR